BEGIN:VCALENDAR
VERSION:2.0
PRODID:-//EuroSEAS 2019//EN
X-WR-CALNAME:EuroSEAS 2019
BEGIN:VTIMEZONE
TZID:Europe/Berlin
X-LIC-LOCATION:Europe/Berlin
BEGIN:DAYLIGHT
TZOFFSETFROM:+0100
TZOFFSETTO:+0200
TZNAME:CEST
DTSTART:19700329T020000
RRULE:FREQ=YEARLY;BYMONTH=3;BYDAY=-1SU
END:DAYLIGHT
BEGIN:STANDARD
TZOFFSETFROM:+0200
TZOFFSETTO:+0100
TZNAME:CET
DTSTART:19701025T030000
RRULE:FREQ=YEARLY;BYMONTH=10;BYDAY=-1SU
END:STANDARD
END:VTIMEZONE
BEGIN:VEVENT
DTSTAMP:20260422T203700
UID:challenges-to-the-future-of-asean
SUMMARY:Challenges to the Future of ASEAN
LOCATION:Fritz-Reuter-Saal
DESCRIPTION:The Association of Southeast Asian Nations (ASEAN) in 2015 esta
 blished the ASEAN Community, Asia’s first regional community, and celebrate
 d 50 years of overcoming the challenges of an extremely diverse region. Whi
 le the ASEAN’s achievements are worth the praise it has garnered in the pas
 t, the future of the region seems to be anything but smooth sailing. This p
 anel looks at some of the most pressing challenges that the ASEAN may face 
 in the future, as echoed by many scholars of the region. The papers in this
  panel will examine the ASEAN principles of regional order vis-à-vis its re
 levance to the present context, the challenges of climate change and the co
 mmitments of the region to address this, and the Chinese factor in the deve
 lopment of the member states’ foreign policies.
URL:https://euroseas2019.org/program/panels/challenges-to-the-future-of-asean
DTSTART;TZID=Europe/Berlin:20190913T090000
DTEND;TZID=Europe/Berlin:20190913T103000
END:VEVENT
END:VCALENDAR
