BEGIN:VCALENDAR
VERSION:2.0
PRODID:-//EuroSEAS 2019//EN
X-WR-CALNAME:EuroSEAS 2019
BEGIN:VTIMEZONE
TZID:Europe/Berlin
X-LIC-LOCATION:Europe/Berlin
BEGIN:DAYLIGHT
TZOFFSETFROM:+0100
TZOFFSETTO:+0200
TZNAME:CEST
DTSTART:19700329T020000
RRULE:FREQ=YEARLY;BYMONTH=3;BYDAY=-1SU
END:DAYLIGHT
BEGIN:STANDARD
TZOFFSETFROM:+0200
TZOFFSETTO:+0100
TZNAME:CET
DTSTART:19701025T030000
RRULE:FREQ=YEARLY;BYMONTH=10;BYDAY=-1SU
END:STANDARD
END:VTIMEZONE
BEGIN:VEVENT
DTSTAMP:20260424T091600
UID:from-southeast-asia-to-europe-tracing-the-roots-and-routes-of-transpacific-radicalism
SUMMARY:From Southeast Asia to Europe: Tracing the Roots and Routes of Transpacific Radicalism
LOCATION:Room 1.401
DESCRIPTION:Since the 19th century, Southeast Asian nationalists from Jose 
 Rizal to Ho Chi Minh traversed national and colonial boundaries and crossed
  oceans in pursuit of what Benedict Anderson calls as educational and polit
 ical “pilgrimages.” In Europe and America, they found kindred spirits and a
 llies for intellectual enlightenment and political solidarity, and these re
 lationships helped shape nationalist and independence movements in Southeas
 t Asia.\n\nIn the 20th century, Southeast Asian activists and radicals cont
 inued this tradition. Many enlisted in the Spanish Civil War, studied in Ru
 ssia, organized labor unions in the United States, forged alliances with in
 ternational radical organizations to raise funds and support causes back ho
 me. This panel looks at the roots and nature of such movements—these circui
 ts of transpacific and transoceanic radicalism—and to trace the routes Sout
 heast Asian radicals took to support revolutionary causes at home and abroa
 d.
URL:https://euroseas2019.org/program/panels/from-southeast-asia-to-europe-tracing-the-roots-and-routes-of-transpacific-radicalism
DTSTART;TZID=Europe/Berlin:20190911T133000
DTEND;TZID=Europe/Berlin:20190911T150000
END:VEVENT
END:VCALENDAR
