BEGIN:VCALENDAR
VERSION:2.0
PRODID:-//EuroSEAS 2019//EN
X-WR-CALNAME:EuroSEAS 2019
BEGIN:VTIMEZONE
TZID:Europe/Berlin
X-LIC-LOCATION:Europe/Berlin
BEGIN:DAYLIGHT
TZOFFSETFROM:+0100
TZOFFSETTO:+0200
TZNAME:CEST
DTSTART:19700329T020000
RRULE:FREQ=YEARLY;BYMONTH=3;BYDAY=-1SU
END:DAYLIGHT
BEGIN:STANDARD
TZOFFSETFROM:+0200
TZOFFSETTO:+0100
TZNAME:CET
DTSTART:19701025T030000
RRULE:FREQ=YEARLY;BYMONTH=10;BYDAY=-1SU
END:STANDARD
END:VTIMEZONE
BEGIN:VEVENT
DTSTAMP:20260422T203700
UID:how-to-get-published-in-southeast-asian-studies
SUMMARY:How to Get Published in Southeast Asian Studies
LOCATION:Room 1.406
DESCRIPTION:This panel brings together editors from various journals and pr
 esses publishing academic research on Southeast Asia. The editors will firs
 t introduce their presses and journals, before they will address key issues
  in the publication process including the submission of a manuscript, the p
 eer review process, audiences and journal missions. The panel seeks to shed
  some light on the enigma of the publication process.\n\nModerated by Benja
 min Baumann.
URL:https://euroseas2019.org/program/panels/how-to-get-published-in-southeast-asian-studies
DTSTART;TZID=Europe/Berlin:20190912T090000
DTEND;TZID=Europe/Berlin:20190912T103000
END:VEVENT
END:VCALENDAR
