BEGIN:VCALENDAR
VERSION:2.0
PRODID:-//EuroSEAS 2019//EN
X-WR-CALNAME:EuroSEAS 2019
BEGIN:VTIMEZONE
TZID:Europe/Berlin
X-LIC-LOCATION:Europe/Berlin
BEGIN:DAYLIGHT
TZOFFSETFROM:+0100
TZOFFSETTO:+0200
TZNAME:CEST
DTSTART:19700329T020000
RRULE:FREQ=YEARLY;BYMONTH=3;BYDAY=-1SU
END:DAYLIGHT
BEGIN:STANDARD
TZOFFSETFROM:+0200
TZOFFSETTO:+0100
TZNAME:CET
DTSTART:19701025T030000
RRULE:FREQ=YEARLY;BYMONTH=10;BYDAY=-1SU
END:STANDARD
END:VTIMEZONE
BEGIN:VEVENT
DTSTAMP:20260424T145300
UID:in-the-making-experimentation-and-experiment-in-southeast-asian-art-1
SUMMARY:In the Making: Experimentation and Experiment in Southeast Asian Art (1)
LOCATION:Room 1.405
DESCRIPTION:This panel will address the issues around experimentation and e
 xperimental in Southeast Asian arts between the 1950s and early 1990s. This
  is an interdisciplinary panel addressing developments in visual, performan
 ce and sound art, and which underscore the impossibility of direct linguist
 ic and conceptual reciprocity. Discursively and historically, the concepts 
 and labels of experimentation and experimental have been deployed and emplo
 yed to accommodate works and practices combining techniques, temporalities 
 and cultural registers unfitting for established categories of artistic and
  cultural practices. Such developments also have been commonly accepted as 
 precursors of contemporary art in Southeast Asia. This panel argues that ex
 perimentation and experimental unsettle mainstream understandings to provid
 e a more nuanced and complicated narrative.\n\nSome of the questions that t
 he panel will address, but not limited to, are:\n\n- What makes experimenta
 l art/s experimental in Southeast Asia?\n- In what ways does experimental a
 s a term fill a void in the discourse, the discomfort between discourses an
 d traditions?\n- What is experimental without an avant-garde movement in th
 e cultural field?\n- Is experimentation/experimental and artistic freedom c
 onnected?\n- Is experimentation/experimental art gendered, in and across co
 ntexts in Southeast Asia?\n- What are the political implications and social
  ramifications?
URL:https://euroseas2019.org/program/panels/in-the-making-experimentation-and-experiment-in-southeast-asian-art
DTSTART;TZID=Europe/Berlin:20190911T133000
DTEND;TZID=Europe/Berlin:20190911T150000
END:VEVENT
BEGIN:VEVENT
DTSTAMP:20260424T145300
UID:in-the-making-experimentation-and-experiment-in-southeast-asian-art-2
SUMMARY:In the Making: Experimentation and Experiment in Southeast Asian Art (2)
LOCATION:Room 1.405
DESCRIPTION:This panel will address the issues around experimentation and e
 xperimental in Southeast Asian arts between the 1950s and early 1990s. This
  is an interdisciplinary panel addressing developments in visual, performan
 ce and sound art, and which underscore the impossibility of direct linguist
 ic and conceptual reciprocity. Discursively and historically, the concepts 
 and labels of experimentation and experimental have been deployed and emplo
 yed to accommodate works and practices combining techniques, temporalities 
 and cultural registers unfitting for established categories of artistic and
  cultural practices. Such developments also have been commonly accepted as 
 precursors of contemporary art in Southeast Asia. This panel argues that ex
 perimentation and experimental unsettle mainstream understandings to provid
 e a more nuanced and complicated narrative.\n\nSome of the questions that t
 he panel will address, but not limited to, are:\n\n- What makes experimenta
 l art/s experimental in Southeast Asia?\n- In what ways does experimental a
 s a term fill a void in the discourse, the discomfort between discourses an
 d traditions?\n- What is experimental without an avant-garde movement in th
 e cultural field?\n- Is experimentation/experimental and artistic freedom c
 onnected?\n- Is experimentation/experimental art gendered, in and across co
 ntexts in Southeast Asia?\n- What are the political implications and social
  ramifications?
URL:https://euroseas2019.org/program/panels/in-the-making-experimentation-and-experiment-in-southeast-asian-art
DTSTART;TZID=Europe/Berlin:20190911T153000
DTEND;TZID=Europe/Berlin:20190911T170000
END:VEVENT
END:VCALENDAR
