BEGIN:VCALENDAR
VERSION:2.0
PRODID:-//EuroSEAS 2019//EN
X-WR-CALNAME:EuroSEAS 2019
BEGIN:VTIMEZONE
TZID:Europe/Berlin
X-LIC-LOCATION:Europe/Berlin
BEGIN:DAYLIGHT
TZOFFSETFROM:+0100
TZOFFSETTO:+0200
TZNAME:CEST
DTSTART:19700329T020000
RRULE:FREQ=YEARLY;BYMONTH=3;BYDAY=-1SU
END:DAYLIGHT
BEGIN:STANDARD
TZOFFSETFROM:+0200
TZOFFSETTO:+0100
TZNAME:CET
DTSTART:19701025T030000
RRULE:FREQ=YEARLY;BYMONTH=10;BYDAY=-1SU
END:STANDARD
END:VTIMEZONE
BEGIN:VEVENT
DTSTAMP:20260424T110200
UID:industry-4-0-in-southeast-asia-strategies-and-implications
SUMMARY:Industry 4.0 in Southeast Asia: Strategies and Implications
LOCATION:Room 1.501
DESCRIPTION:In recent years, many governments in Southeast Asia have embrac
 ed the keyword “Industry 4.0” to label their strategies for digital industr
 ies, e-government, e-commerce and digital social media and services. Exampl
 es are “Malaysia 4”, “Making Indonesia 4.0”, “Singapore: Smart City, Smart 
 Nation”, or “Thailand 4.0”. This panel seeks to venture into various aspect
 s of the claimed “new era of the 4th industrial revolution” in Southeast As
 ia. Of particular interest are on the one hand analyses of economic and pol
 itical strategies around “Industry 4.0”, and on the other studies of intend
 ed as well as unintended economic, social, cultural, and political implicat
 ions.
URL:https://euroseas2019.org/program/panels/industry-4-0-in-southeast-asia-strategies-and-implications
DTSTART;TZID=Europe/Berlin:20190913T110000
DTEND;TZID=Europe/Berlin:20190913T123000
END:VEVENT
END:VCALENDAR
