BEGIN:VCALENDAR
VERSION:2.0
PRODID:-//EuroSEAS 2019//EN
X-WR-CALNAME:EuroSEAS 2019
BEGIN:VTIMEZONE
TZID:Europe/Berlin
X-LIC-LOCATION:Europe/Berlin
BEGIN:DAYLIGHT
TZOFFSETFROM:+0100
TZOFFSETTO:+0200
TZNAME:CEST
DTSTART:19700329T020000
RRULE:FREQ=YEARLY;BYMONTH=3;BYDAY=-1SU
END:DAYLIGHT
BEGIN:STANDARD
TZOFFSETFROM:+0200
TZOFFSETTO:+0100
TZNAME:CET
DTSTART:19701025T030000
RRULE:FREQ=YEARLY;BYMONTH=10;BYDAY=-1SU
END:STANDARD
END:VTIMEZONE
BEGIN:VEVENT
DTSTAMP:20260424T182400
UID:interculturalism-and-southeast-asian-performing-arts-1
SUMMARY:Interculturalism and Southeast Asian Performing Arts (1)
LOCATION:Room 1.505
DESCRIPTION:Southeast Asia has been noted for its unique outward looking vi
 ew—a key part of identity and state building in contemporary Southeast Asia
  is seeking involvement in global exchange and processes. This is very much
  the case when it comes to both traditional and contemporary performing art
 s. Examining a range of performers and performances, this panel seeks to in
 terrogate the ways and means of intercultural interactions among and betwee
 n artists in the region and with artists based elsewhere in the world in or
 der to examine intercultural performance theory and complicate East/West di
 chotomies. Papers will examine intercultural performance pedagogies, the ad
 option and adaptation of international popular culture by contemporary and 
 traditional performing artists, cultural exchange between and among ASEAN a
 rtists and projects between European institutions and Southeast Asian perfo
 rmers.
URL:https://euroseas2019.org/program/panels/interculturalism-and-southeast-asian-performing-arts
DTSTART;TZID=Europe/Berlin:20190912T090000
DTEND;TZID=Europe/Berlin:20190912T103000
END:VEVENT
BEGIN:VEVENT
DTSTAMP:20260424T182400
UID:interculturalism-and-southeast-asian-performing-arts-2
SUMMARY:Interculturalism and Southeast Asian Performing Arts (2)
LOCATION:Room 1.505
DESCRIPTION:Southeast Asia has been noted for its unique outward looking vi
 ew—a key part of identity and state building in contemporary Southeast Asia
  is seeking involvement in global exchange and processes. This is very much
  the case when it comes to both traditional and contemporary performing art
 s. Examining a range of performers and performances, this panel seeks to in
 terrogate the ways and means of intercultural interactions among and betwee
 n artists in the region and with artists based elsewhere in the world in or
 der to examine intercultural performance theory and complicate East/West di
 chotomies. Papers will examine intercultural performance pedagogies, the ad
 option and adaptation of international popular culture by contemporary and 
 traditional performing artists, cultural exchange between and among ASEAN a
 rtists and projects between European institutions and Southeast Asian perfo
 rmers.
URL:https://euroseas2019.org/program/panels/interculturalism-and-southeast-asian-performing-arts
DTSTART;TZID=Europe/Berlin:20190912T110000
DTEND;TZID=Europe/Berlin:20190912T123000
END:VEVENT
END:VCALENDAR
