BEGIN:VCALENDAR
VERSION:2.0
PRODID:-//EuroSEAS 2019//EN
X-WR-CALNAME:EuroSEAS 2019
BEGIN:VTIMEZONE
TZID:Europe/Berlin
X-LIC-LOCATION:Europe/Berlin
BEGIN:DAYLIGHT
TZOFFSETFROM:+0100
TZOFFSETTO:+0200
TZNAME:CEST
DTSTART:19700329T020000
RRULE:FREQ=YEARLY;BYMONTH=3;BYDAY=-1SU
END:DAYLIGHT
BEGIN:STANDARD
TZOFFSETFROM:+0200
TZOFFSETTO:+0100
TZNAME:CET
DTSTART:19701025T030000
RRULE:FREQ=YEARLY;BYMONTH=10;BYDAY=-1SU
END:STANDARD
END:VTIMEZONE
BEGIN:VEVENT
DTSTAMP:20260423T061400
UID:malaysia-post-ge14
SUMMARY:Malaysia: Post-GE14
LOCATION:Room 1.404
DESCRIPTION:The present Pakatan Harapan (PH) government, in actual fact, di
 d not expect to win the 14th Malaysian General Election (GE14) and overthro
 w the Barisan Nasional (BN) government under Najib Razak. BN has been rulin
 g the country for over 60 years and had in place all the laws, infrastructu
 re, institutions, etc. which were favourable to them. Most of all, BN had t
 he financial capacity to ensure that it would continue to rule the country.
  However, two main factors emerged that spoiled the opportunity of BN, i.e.
  Najib’s 1MDB and the return of Mahathir. When PH took over the administrat
 ion of the country, the new cabinet under Mahathir had only around four exp
 erienced Ministers and Deputy Ministers out of 55. These new appointees had
  no experience running their ministries, planning and executing government 
 policies, dealing with the press, etc.. The mistakes they made became fodde
 r for the opposition BN to criticize them. This panel will discuss the “rep
 ort card” of the PH government in September 2019 after coming into power fo
 r more than a year, challenges the various ministries had to face and wheth
 er the PH government is able to sustain its position in the next general el
 ection, i.e. GE15.
URL:https://euroseas2019.org/program/panels/malaysia-post-ge14
DTSTART;TZID=Europe/Berlin:20190912T090000
DTEND;TZID=Europe/Berlin:20190912T103000
END:VEVENT
END:VCALENDAR
