BEGIN:VCALENDAR
VERSION:2.0
PRODID:-//EuroSEAS 2019//EN
X-WR-CALNAME:EuroSEAS 2019
BEGIN:VTIMEZONE
TZID:Europe/Berlin
X-LIC-LOCATION:Europe/Berlin
BEGIN:DAYLIGHT
TZOFFSETFROM:+0100
TZOFFSETTO:+0200
TZNAME:CEST
DTSTART:19700329T020000
RRULE:FREQ=YEARLY;BYMONTH=3;BYDAY=-1SU
END:DAYLIGHT
BEGIN:STANDARD
TZOFFSETFROM:+0200
TZOFFSETTO:+0100
TZNAME:CET
DTSTART:19701025T030000
RRULE:FREQ=YEARLY;BYMONTH=10;BYDAY=-1SU
END:STANDARD
END:VTIMEZONE
BEGIN:VEVENT
DTSTAMP:20260422T204900
UID:muslim-belonging-and-politics-of-belonging-in-the-philippines
SUMMARY:Muslim Belonging and Politics of Belonging in the Philippines
LOCATION:Room 1.102
DESCRIPTION:This panel looks into the lives and experiences of Muslim Filip
 inos through the lens of belonging and politics of belonging. It will tackl
 e the various ways in which Muslims perform and construct their belongingne
 ss, which Nira Yuval-Davis (2006) defines as “emotional attachment, about f
 eeling ‘at home,’” that exists at three analytical levels: “[the first is] 
 social locations; the second relates to individuals’ identifications and em
 otional attachments to various collectivities and groupings; the third rela
 tes to ethical and political value systems with which people judge their ow
 n and others’ belonging/s.” Belonging becomes political, Yuval-Davis assert
 s, when contestations over the latter ensue and when social locations—inclu
 ding political and historical positionalities, and narratives of identities
 , are used, particularly by hegemonic powers, to draw, enact, maintain, and
  reproduce boundaries between “us” and “them.” Thus, the panel will also lo
 ok at how these boundaries are drawn and what their consequences are for pa
 rticular Muslims, while, at the same time, interrogating how these boundari
 es are contested and challenged. \n\nCited work: Yuval-Davis, Nira, “Belong
 ing and the Politics of Belonging,” Patterns of Prejudice, 40:3 (2006), 197
 -214, at 197.
URL:https://euroseas2019.org/program/panels/muslim-belonging-and-politics-of-belonging-in-the-philippines
DTSTART;TZID=Europe/Berlin:20190911T153000
DTEND;TZID=Europe/Berlin:20190911T170000
END:VEVENT
END:VCALENDAR
