BEGIN:VCALENDAR
VERSION:2.0
PRODID:-//EuroSEAS 2019//EN
X-WR-CALNAME:EuroSEAS 2019
BEGIN:VTIMEZONE
TZID:Europe/Berlin
X-LIC-LOCATION:Europe/Berlin
BEGIN:DAYLIGHT
TZOFFSETFROM:+0100
TZOFFSETTO:+0200
TZNAME:CEST
DTSTART:19700329T020000
RRULE:FREQ=YEARLY;BYMONTH=3;BYDAY=-1SU
END:DAYLIGHT
BEGIN:STANDARD
TZOFFSETFROM:+0200
TZOFFSETTO:+0100
TZNAME:CET
DTSTART:19701025T030000
RRULE:FREQ=YEARLY;BYMONTH=10;BYDAY=-1SU
END:STANDARD
END:VTIMEZONE
BEGIN:VEVENT
DTSTAMP:20260422T104300
UID:organization-and-social-movement-of-fishers-in-indonesia
SUMMARY:Organization and Social Movement of Fishers in Indonesia
LOCATION:Room 1.405
DESCRIPTION:With more than 17.000 islands, Indonesia is known as the bigges
 t archipelagic nation in the world. Indonesia is also known as a maritime s
 tate since about 75% of its territory comprise of sea. Blessed with rich ma
 rine resources, there are many people who live in coastal areas work as fis
 hers. In 2016, for example, there were 2,643,902 fishers in Indonesia.\n\nU
 nder the New Order era of President Suharto, most of fisher’s organizations
  were introduce and established “from above”. Their role was also mainly to
  deliver government program and agenda. At that time, the Himpunan Nelayan 
 Seluruh Indonesia (HNSI) or “All Indonesian Fisher Association” was the mai
 n fisher organization that existed. In some places, there were also Fisher’
 s Cooperative Organization (KUD) existed. However, since the fall of the Ne
 w Order in 1998, there seem to be many fisher organizations established by 
 the fishers themselves or by NGO’s. In line with that, fishers also become 
 more often express their interests in the public sphere, such as meeting lo
 cal government and parliament as well as demonstration. In other words, fis
 hers become more active conducting social movement to pursue their interest
 s. Until now, study about the organization and social movement among fisher
 s in Indonesia after the fall of the New Order is still very limited.\n\nBa
 sed on the description above, it is very important to study the organizatio
 n and social movement of fishers in Indonesia. For that reason, in 2018 (fi
 rst year), we have already conducted study regarding organization and socia
 l movement of fishers in Indonesia. The study was conducted in Lamongan (Ea
 st Java), Pati and Tegal (Central Java), Indramayu (West Java), and in Jaka
 rta (DKI Jakarta). If everything goes well (approved), the study will be en
 ded by the year 2020.
URL:https://euroseas2019.org/program/panels/organization-and-social-movement-of-fishers-in-indonesia
DTSTART;TZID=Europe/Berlin:20190912T110000
DTEND;TZID=Europe/Berlin:20190912T123000
END:VEVENT
END:VCALENDAR
