BEGIN:VCALENDAR
VERSION:2.0
PRODID:-//EuroSEAS 2019//EN
X-WR-CALNAME:EuroSEAS 2019
BEGIN:VTIMEZONE
TZID:Europe/Berlin
X-LIC-LOCATION:Europe/Berlin
BEGIN:DAYLIGHT
TZOFFSETFROM:+0100
TZOFFSETTO:+0200
TZNAME:CEST
DTSTART:19700329T020000
RRULE:FREQ=YEARLY;BYMONTH=3;BYDAY=-1SU
END:DAYLIGHT
BEGIN:STANDARD
TZOFFSETFROM:+0200
TZOFFSETTO:+0100
TZNAME:CET
DTSTART:19701025T030000
RRULE:FREQ=YEARLY;BYMONTH=10;BYDAY=-1SU
END:STANDARD
END:VTIMEZONE
BEGIN:VEVENT
DTSTAMP:20260423T061500
UID:politics-in-the-age-of-duterte
SUMMARY:Politics in the Age of Duterte
LOCATION:Fritz-Reuter-Saal
DESCRIPTION:Rodrigo Duterte’s presidency has brought a sea change to Philip
 pine politics. Scholars have also had to take a notably different tack in t
 heir analyses, leaving in their wake traditional paradigms of clientelism, 
 bossism, and imperialism. Duterte won the presidency with limited political
  machinery with a campaign narrative that targeted not only drug dealers an
 d users but also elite politics more generally. His pro-China, anti-U.S. st
 ance makes it rather implausible to categorize him as a typical U.S. “lapdo
 g”. Even his bossist style is different from old-style strongman rule as hi
 s primary focus has been on the criminal “other” rather than his political 
 rivals. This has led the emergence of what can be termed “Duterte studies” 
 with new research foci: the nature and appeal of his violent, illiberal “pe
 nal populism” and his “social banditry morality”; the precise nature of the
  drug war, police vigilantism and “murder as enterprise”; the “weaponizatio
 n of social media” and trolling; Duterte’s misygonist and violent humor whi
 ch has a deadly seriousness to it and more generally Duterte’s style of dis
 course with its “backstage” authenticity; continuity in neo-liberal economi
 c and social policy despite Duterte’s claim to be a socialist; the shift of
  the communist left from “frenemies” to Duterte’s most militant opponents, 
 the apparent breakthrough in Bangsamoro autonomy, a move toward “dynastic f
 ederalism”, Duterte’s “resurgent” anti-imperialist nationalism but also the
  claim he is “collaborating” with the China. The aim of this panel is to di
 scuss these new trends in Philippine politics in terms of political discour
 se, the drug war, economic and social policy, militarization, and foreign p
 olicy under the Duterte presidency as well as examining how it differs from
  the pre-Duterte era and what the longer term implications of this new poli
 tical era may prove to be.
URL:https://euroseas2019.org/program/panels/politics-in-the-age-of-duterte
DTSTART;TZID=Europe/Berlin:20190912T090000
DTEND;TZID=Europe/Berlin:20190912T103000
END:VEVENT
END:VCALENDAR
