BEGIN:VCALENDAR
VERSION:2.0
PRODID:-//EuroSEAS 2019//EN
X-WR-CALNAME:EuroSEAS 2019
BEGIN:VTIMEZONE
TZID:Europe/Berlin
X-LIC-LOCATION:Europe/Berlin
BEGIN:DAYLIGHT
TZOFFSETFROM:+0100
TZOFFSETTO:+0200
TZNAME:CEST
DTSTART:19700329T020000
RRULE:FREQ=YEARLY;BYMONTH=3;BYDAY=-1SU
END:DAYLIGHT
BEGIN:STANDARD
TZOFFSETFROM:+0200
TZOFFSETTO:+0100
TZNAME:CET
DTSTART:19701025T030000
RRULE:FREQ=YEARLY;BYMONTH=10;BYDAY=-1SU
END:STANDARD
END:VTIMEZONE
BEGIN:VEVENT
DTSTAMP:20260423T063000
UID:scholars-in-emerging-archaeological-researches-in-the-philippines-1
SUMMARY:Scholars in Emerging Archaeological Researches in the Philippines (1)
LOCATION:Room 1.405
DESCRIPTION:Archaeology is an exciting discipline in this 21st century of t
 he Philippines with more collaborations and developing data and discussions
  given the older timeline of the peopling in the Southeast Asian region. Re
 searches in the last few years have significantly contributed to a better u
 nderstanding of early human migration and colonization, proving how connect
 ed the islands are to the rest of the world. Besides this, the field is als
 o challenged with its role in today’s global context and issues. In this pa
 nel, we invite and bring together young scholars with on-going archaeologic
 al researches on human adaptation to climate change, archaeological heritag
 e management, and the application of new technologies in archaeological dat
 a presentation – key and emerging themes in the practice of Philippine arch
 aeology.
URL:https://euroseas2019.org/program/panels/scholars-in-emerging-archaeological-researches-in-the-philippines
DTSTART;TZID=Europe/Berlin:20190912T133000
DTEND;TZID=Europe/Berlin:20190912T150000
END:VEVENT
BEGIN:VEVENT
DTSTAMP:20260423T063000
UID:scholars-in-emerging-archaeological-researches-in-the-philippines-2
SUMMARY:Scholars in Emerging Archaeological Researches in the Philippines (2)
LOCATION:Room 1.405
DESCRIPTION:Archaeology is an exciting discipline in this 21st century of t
 he Philippines with more collaborations and developing data and discussions
  given the older timeline of the peopling in the Southeast Asian region. Re
 searches in the last few years have significantly contributed to a better u
 nderstanding of early human migration and colonization, proving how connect
 ed the islands are to the rest of the world. Besides this, the field is als
 o challenged with its role in today’s global context and issues. In this pa
 nel, we invite and bring together young scholars with on-going archaeologic
 al researches on human adaptation to climate change, archaeological heritag
 e management, and the application of new technologies in archaeological dat
 a presentation – key and emerging themes in the practice of Philippine arch
 aeology.
URL:https://euroseas2019.org/program/panels/scholars-in-emerging-archaeological-researches-in-the-philippines
DTSTART;TZID=Europe/Berlin:20190912T153000
DTEND;TZID=Europe/Berlin:20190912T170000
END:VEVENT
END:VCALENDAR
