BEGIN:VCALENDAR
VERSION:2.0
PRODID:-//EuroSEAS 2019//EN
X-WR-CALNAME:EuroSEAS 2019
BEGIN:VTIMEZONE
TZID:Europe/Berlin
X-LIC-LOCATION:Europe/Berlin
BEGIN:DAYLIGHT
TZOFFSETFROM:+0100
TZOFFSETTO:+0200
TZNAME:CEST
DTSTART:19700329T020000
RRULE:FREQ=YEARLY;BYMONTH=3;BYDAY=-1SU
END:DAYLIGHT
BEGIN:STANDARD
TZOFFSETFROM:+0200
TZOFFSETTO:+0100
TZNAME:CET
DTSTART:19701025T030000
RRULE:FREQ=YEARLY;BYMONTH=10;BYDAY=-1SU
END:STANDARD
END:VTIMEZONE
BEGIN:VEVENT
DTSTAMP:20260422T132600
UID:sectarian-identity-formation-and-intra-group-muslim-rivalries-in-southeast-asia
SUMMARY:Sectarian Identity Formation and Intra-Group Muslim Rivalries in Southeast Asia
LOCATION:Room 1.102
DESCRIPTION:This panel examines the dynamics of sectarianism in Muslim-majo
 rity countries in Southeast Asia, as well as in those countries with signif
 icant Muslim minority communities. The panel aims to contribute to a more n
 uanced understanding of sectarianism and the development of intra-Muslim gr
 oup contestations by focusing on the multiple factors that shape modern sec
 tarian identity formation within Southeast Asian Muslim communities. By mov
 ing away from rigid, primordial-centred and theologically-rooted conceptual
 isations of sectarian divides, the panel instead demonstrates the workings 
 of multiple structural factors and contextual drivers in the construction o
 f sectarian identities such as the politicisation of ethno-religious identi
 ties; competition over access to state recognition and resources; political
  uncertainty or change; subnational contestations over reinterpretations of
  religious traditions; and transnational ideological influences. Through th
 e empirical examples provided in the papers of this panel, we seek to answe
 r fundamental questions on why, when and how modern sectarian identities ar
 e variously emphasised and de-emphasised by different political, religious 
 and social actors, as a consequence of the high salience or low salience of
  identifiable structural and contextual drivers in the different national c
 ontexts studied. The panel convenes junior and senior scholars of Muslim so
 cieties in Southeast Asia to address these questions from a sociological an
 d political science interdisciplinary perspective.
URL:https://euroseas2019.org/program/panels/sectarian-identity-formation-and-intra-group-muslim-rivalries-in-southeast-asia
DTSTART;TZID=Europe/Berlin:20190911T110000
DTEND;TZID=Europe/Berlin:20190911T123000
END:VEVENT
END:VCALENDAR
