BEGIN:VCALENDAR
VERSION:2.0
PRODID:-//EuroSEAS 2019//EN
X-WR-CALNAME:EuroSEAS 2019
BEGIN:VTIMEZONE
TZID:Europe/Berlin
X-LIC-LOCATION:Europe/Berlin
BEGIN:DAYLIGHT
TZOFFSETFROM:+0100
TZOFFSETTO:+0200
TZNAME:CEST
DTSTART:19700329T020000
RRULE:FREQ=YEARLY;BYMONTH=3;BYDAY=-1SU
END:DAYLIGHT
BEGIN:STANDARD
TZOFFSETFROM:+0200
TZOFFSETTO:+0100
TZNAME:CET
DTSTART:19701025T030000
RRULE:FREQ=YEARLY;BYMONTH=10;BYDAY=-1SU
END:STANDARD
END:VTIMEZONE
BEGIN:VEVENT
DTSTAMP:20260422T133100
UID:strongmen-in-southeast-asia
SUMMARY:Strongmen in Southeast Asia
LOCATION:Room 1.401
DESCRIPTION:Scholars of Southeast Asia have produced an extensive literatur
 e on strongmen. The study of traditional strongmen focuses on men of prowes
 s across Southeast Asia, emphasizing the importance of shared belief system
 s about the basis of an individual's power and the historical processes tha
 t influenced these beliefs. Scholarship on modern strongmen also discuss el
 ements of traditional authority, but often emphasize the reliance of strong
 men on coercion and ties to the state as the basis for their domination of 
 society.\n\nThis panel brings together scholars from various perspectives t
 o examine a broad range of issues regarding strongmen in Southeast Asia. Th
 e goals of the panel are to present recent research on strongmen to broaden
  our understanding of several dynamics. Among the questions addressed: 1) W
 hat is the basis for strongmen’s domination of society? 2) When and how do 
 strongmen ally with/violently challenge the central state? 3) What are the 
 economic and social foundations of their authority?
URL:https://euroseas2019.org/program/panels/strongmen-in-southeast-asia
DTSTART;TZID=Europe/Berlin:20190911T153000
DTEND;TZID=Europe/Berlin:20190911T170000
END:VEVENT
END:VCALENDAR
