BEGIN:VCALENDAR
VERSION:2.0
PRODID:-//EuroSEAS 2019//EN
X-WR-CALNAME:EuroSEAS 2019
BEGIN:VTIMEZONE
TZID:Europe/Berlin
X-LIC-LOCATION:Europe/Berlin
BEGIN:DAYLIGHT
TZOFFSETFROM:+0100
TZOFFSETTO:+0200
TZNAME:CEST
DTSTART:19700329T020000
RRULE:FREQ=YEARLY;BYMONTH=3;BYDAY=-1SU
END:DAYLIGHT
BEGIN:STANDARD
TZOFFSETFROM:+0200
TZOFFSETTO:+0100
TZNAME:CET
DTSTART:19701025T030000
RRULE:FREQ=YEARLY;BYMONTH=10;BYDAY=-1SU
END:STANDARD
END:VTIMEZONE
BEGIN:VEVENT
DTSTAMP:20260422T105400
UID:understanding-the-emergence-of-political-villagers-and-states-counteraction-in-northeast-thailand
SUMMARY:Understanding the Emergence of Political Villagers and State’s Counteraction in Northeast Thailand
LOCATION:Room 1.308
DESCRIPTION:This panel examines the transformation of politics of the villa
 gers in rural areas in Northeast Thailand (Isan), from multiple viewpoints 
 including motivations, group identity, linkage to politicians or political 
 parties, livelihood ecology, and their interaction with the military govern
 ment. The main focus is the ‘Red-Shirt’ movement in Isan. Existing studies 
 so far have argued about the socio-economic backgrounds of the Red Shirt pa
 rticipants in somehow generalized ways claiming that they are a newly emerg
 ing lower middle class engaged with commercial agriculture or small busines
 s, who is much benefited by the policies of the Thaksin administration. In 
 this panel, in-depth examination of how the villagers did/not become ‘Red’ 
 and how they have been maintaining their ‘redness’ until now.\n\nFour paper
 s in this paper take different methodological perspectives on the issues. F
 ujita’s anthropological study compares how environmental diversities in dif
 ferent geographical areas affected people’s economic and, hence, political 
 preferences. Viengrat analyzes the transformation of Isan citizens by compa
 ring politicians' narratives of Isan with those of other regions. Saowanee’
 s paper employs linguistic methods to examine how ordinary Red Shirt activi
 sts maintain their political identity. Puangthong examines the impact of mi
 litary’s use of the Cold War-era methods to penetrate its control and influ
 ence in Isan area.
URL:https://euroseas2019.org/program/panels/understanding-the-emergence-of-political-villagers-and-states-counteraction-in-northeast-thailand
DTSTART;TZID=Europe/Berlin:20190912T133000
DTEND;TZID=Europe/Berlin:20190912T150000
END:VEVENT
END:VCALENDAR
